BEGIN:VCALENDAR
VERSION:2.0
PRODID:-//We Work The Waterways - ECPv6.15.20//NONSGML v1.0//EN
CALSCALE:GREGORIAN
METHOD:PUBLISH
X-WR-CALNAME:We Work The Waterways
X-ORIGINAL-URL:https://weworkthewaterways.com
X-WR-CALDESC:Events for We Work The Waterways
REFRESH-INTERVAL;VALUE=DURATION:PT1H
X-Robots-Tag:noindex
X-PUBLISHED-TTL:PT1H
BEGIN:VTIMEZONE
TZID:UTC
BEGIN:STANDARD
TZOFFSETFROM:+0000
TZOFFSETTO:+0000
TZNAME:UTC
DTSTART:20250101T000000
END:STANDARD
END:VTIMEZONE
BEGIN:VEVENT
DTSTART;TZID=UTC:20260419T100000
DTEND;TZID=UTC:20260419T130000
DTSTAMP:20260424T134038
CREATED:20260422T184210Z
LAST-MODIFIED:20260422T184210Z
UID:10000037-1776592800-1776603600@weworkthewaterways.com
SUMMARY:SeaAirSpace Stem Expo
DESCRIPTION:
URL:https://weworkthewaterways.com/event/seaairspace-stem-expo/
LOCATION:Gaylord Resort & Convention Center\, National Park\, MD
CATEGORIES:Community & External Engagements
ATTACH;FMTTYPE=image/jpeg:https://weworkthewaterways.com/wp-content/uploads/2026/04/20260419_140249611_iOS-scaled.jpg
END:VEVENT
END:VCALENDAR