BEGIN:VCALENDAR
VERSION:2.0
PRODID:-//We Work The Waterways - ECPv6.15.20//NONSGML v1.0//EN
CALSCALE:GREGORIAN
METHOD:PUBLISH
X-WR-CALNAME:We Work The Waterways
X-ORIGINAL-URL:https://weworkthewaterways.com
X-WR-CALDESC:Events for We Work The Waterways
REFRESH-INTERVAL;VALUE=DURATION:PT1H
X-Robots-Tag:noindex
X-PUBLISHED-TTL:PT1H
BEGIN:VTIMEZONE
TZID:UTC
BEGIN:STANDARD
TZOFFSETFROM:+0000
TZOFFSETTO:+0000
TZNAME:UTC
DTSTART:20250101T000000
END:STANDARD
END:VTIMEZONE
BEGIN:VEVENT
DTSTART;VALUE=DATE:20260605
DTEND;VALUE=DATE:20260606
DTSTAMP:20260424T151957
CREATED:20260422T154138Z
LAST-MODIFIED:20260423T174215Z
UID:10000031-1780617600-1780703999@weworkthewaterways.com
SUMMARY:Louisiana International Trade Conference
DESCRIPTION:
URL:https://weworkthewaterways.com/event/louisiana-international-trade-conference/
LOCATION:New Orleans
CATEGORIES:Community & External Engagements
ATTACH;FMTTYPE=image/jpeg:https://weworkthewaterways.com/wp-content/uploads/2026/04/Louisiana-International-Trade-Conference.jpg
END:VEVENT
BEGIN:VEVENT
DTSTART;VALUE=DATE:20260711
DTEND;VALUE=DATE:20260715
DTSTAMP:20260424T151957
CREATED:20260422T154246Z
LAST-MODIFIED:20260423T174421Z
UID:10000034-1783728000-1784073599@weworkthewaterways.com
SUMMARY:ASCA Conference (National Counselor Conference)
DESCRIPTION:
URL:https://weworkthewaterways.com/event/asca-conference-national-counselor-conference/
LOCATION:New Orleans
CATEGORIES:Community & External Engagements
ATTACH;FMTTYPE=image/jpeg:https://weworkthewaterways.com/wp-content/uploads/2026/04/ASCA-Conference.jpg
END:VEVENT
BEGIN:VEVENT
DTSTART;VALUE=DATE:20260712
DTEND;VALUE=DATE:20260713
DTSTAMP:20260424T151957
CREATED:20260422T154319Z
LAST-MODIFIED:20260423T174452Z
UID:10000035-1783814400-1783900799@weworkthewaterways.com
SUMMARY:Southwestern Fertilizer Conference
DESCRIPTION:
URL:https://weworkthewaterways.com/event/southwestern-fertilizer-conference/
LOCATION:New Orleans
CATEGORIES:Community & External Engagements
ATTACH;FMTTYPE=image/png:https://weworkthewaterways.com/wp-content/uploads/2026/04/Southwestern-Fertilizer-Conference.png
END:VEVENT
BEGIN:VEVENT
DTSTART;VALUE=DATE:20261022
DTEND;VALUE=DATE:20261023
DTSTAMP:20260424T151957
CREATED:20260423T170413Z
LAST-MODIFIED:20260423T172529Z
UID:10000040-1792627200-1792713599@weworkthewaterways.com
SUMMARY:GNOBFA Golf Outing
DESCRIPTION:
URL:https://weworkthewaterways.com/event/gnobfa-golf-outing/
LOCATION:New Orleans
CATEGORIES:Community & External Engagements
ATTACH;FMTTYPE=image/png:https://weworkthewaterways.com/wp-content/uploads/2026/04/GNOBFA-Golf-Outing.png
END:VEVENT
BEGIN:VEVENT
DTSTART;VALUE=DATE:20261202
DTEND;VALUE=DATE:20261206
DTSTAMP:20260424T151957
CREATED:20260423T170636Z
LAST-MODIFIED:20260423T175102Z
UID:10000043-1796169600-1796515199@weworkthewaterways.com
SUMMARY:ACTE Conference
DESCRIPTION:
URL:https://weworkthewaterways.com/event/acte-conference/
LOCATION:New Orleans
CATEGORIES:Community & External Engagements
ATTACH;FMTTYPE=image/jpeg:https://weworkthewaterways.com/wp-content/uploads/2026/04/ACTE-Conference.jpeg
END:VEVENT
BEGIN:VEVENT
DTSTART;VALUE=DATE:20261204
DTEND;VALUE=DATE:20261207
DTSTAMP:20260424T151957
CREATED:20260423T170707Z
LAST-MODIFIED:20260423T175428Z
UID:10000044-1796342400-1796601599@weworkthewaterways.com
SUMMARY:Workboat
DESCRIPTION:
URL:https://weworkthewaterways.com/event/workboat/
LOCATION:New Orleans
CATEGORIES:Community & External Engagements
ATTACH;FMTTYPE=image/png:https://weworkthewaterways.com/wp-content/uploads/2026/04/Workboat.png
END:VEVENT
END:VCALENDAR