BEGIN:VCALENDAR
VERSION:2.0
PRODID:-//We Work The Waterways - ECPv6.15.20//NONSGML v1.0//EN
CALSCALE:GREGORIAN
METHOD:PUBLISH
X-ORIGINAL-URL:https://weworkthewaterways.com
X-WR-CALDESC:Events for We Work The Waterways
REFRESH-INTERVAL;VALUE=DURATION:PT1H
X-Robots-Tag:noindex
X-PUBLISHED-TTL:PT1H
BEGIN:VTIMEZONE
TZID:UTC
BEGIN:STANDARD
TZOFFSETFROM:+0000
TZOFFSETTO:+0000
TZNAME:UTC
DTSTART:20250101T000000
END:STANDARD
END:VTIMEZONE
BEGIN:VEVENT
DTSTART;VALUE=DATE:20261119
DTEND;VALUE=DATE:20261122
DTSTAMP:20260424T153610
CREATED:20260423T170552Z
LAST-MODIFIED:20260423T174959Z
UID:10000042-1795046400-1795305599@weworkthewaterways.com
SUMMARY:Pacific Marine Expo
DESCRIPTION:
URL:https://weworkthewaterways.com/event/pacific-marine-expo/
LOCATION:Seattle\, WA
CATEGORIES:Community & External Engagements
ATTACH;FMTTYPE=image/png:https://weworkthewaterways.com/wp-content/uploads/2026/04/Pacific-Marine-Expo.png
END:VEVENT
END:VCALENDAR